Package: RMassBankData Version: 1.45.0 Command: /home/biocbuild/bbs-3.21-bioc/R/bin/R CMD build --keep-empty-dirs --no-resave-data RMassBankData StartedAt: 2025-01-30 11:36:04 -0500 (Thu, 30 Jan 2025) EndedAt: 2025-01-30 11:36:17 -0500 (Thu, 30 Jan 2025) EllapsedTime: 13.0 seconds RetCode: 0 Status: OK PackageFile: RMassBankData_1.45.0.tar.gz PackageFileSize: 51.54 MiB