Package: QDNAseq.mm10 Version: 1.39.0 Command: /home/biocbuild/bbs-3.22-bioc/R/bin/R CMD INSTALL QDNAseq.mm10 StartedAt: 2025-07-17 11:02:23 -0400 (Thu, 17 Jul 2025) EndedAt: 2025-07-17 11:02:35 -0400 (Thu, 17 Jul 2025) EllapsedTime: 12.4 seconds RetCode: 0 Status: OK