Package: QDNAseq.mm10 Version: 1.37.0 Command: /home/biocbuild/bbs-3.21-bioc/R/bin/R CMD build --keep-empty-dirs --no-resave-data QDNAseq.mm10 StartedAt: 2025-02-13 11:35:00 -0500 (Thu, 13 Feb 2025) EndedAt: 2025-02-13 11:35:03 -0500 (Thu, 13 Feb 2025) EllapsedTime: 2.6 seconds RetCode: 0 Status: OK PackageFile: QDNAseq.mm10_1.37.0.tar.gz PackageFileSize: 31.18 MiB