Package: PhyloProfileData Version: 1.23.3 Command: /home/biocbuild/bbs-3.22-bioc/R/bin/R CMD check --install=check:PhyloProfileData.install-out.txt --library=/home/biocbuild/bbs-3.22-bioc/R/site-library --timings PhyloProfileData_1.23.3.tar.gz StartedAt: 2025-10-02 12:52:01 -0400 (Thu, 02 Oct 2025) EndedAt: 2025-10-02 12:53:43 -0400 (Thu, 02 Oct 2025) EllapsedTime: 102.5 seconds RetCode: 0 Status: OK CheckDir: PhyloProfileData.Rcheck Warnings: 0