Package: PWMEnrich.Dmelanogaster.background Version: 4.43.0 Command: /home/biocbuild/bbs-3.22-bioc/R/bin/R CMD INSTALL PWMEnrich.Dmelanogaster.background StartedAt: 2025-10-07 10:56:32 -0400 (Tue, 07 Oct 2025) EndedAt: 2025-10-07 10:56:38 -0400 (Tue, 07 Oct 2025) EllapsedTime: 6.2 seconds RetCode: 0 Status: OK