Package: ObMiTi Version: 1.17.0 Command: /home/biocbuild/bbs-3.22-bioc/R/bin/R CMD INSTALL ObMiTi StartedAt: 2025-07-24 10:58:21 -0400 (Thu, 24 Jul 2025) EndedAt: 2025-07-24 10:58:47 -0400 (Thu, 24 Jul 2025) EllapsedTime: 26.7 seconds RetCode: 0 Status: OK