Package: ObMiTi Version: 1.17.0 Command: /home/biocbuild/bbs-3.22-bioc/R/bin/R CMD build --keep-empty-dirs --no-resave-data ObMiTi StartedAt: 2025-07-24 11:34:41 -0400 (Thu, 24 Jul 2025) EndedAt: 2025-07-24 11:35:22 -0400 (Thu, 24 Jul 2025) EllapsedTime: 41.6 seconds RetCode: 0 Status: OK PackageFile: ObMiTi_1.17.0.tar.gz PackageFileSize: 46.94 KiB