Package: NanoporeRNASeq Version: 1.17.0 Command: /home/biocbuild/bbs-3.21-bioc/R/bin/R CMD INSTALL NanoporeRNASeq StartedAt: 2025-01-30 10:57:09 -0500 (Thu, 30 Jan 2025) EndedAt: 2025-01-30 10:57:19 -0500 (Thu, 30 Jan 2025) EllapsedTime: 9.6 seconds RetCode: 0 Status: OK