Package: NGScopyData Version: 1.27.0 Command: /home/biocbuild/bbs-3.21-bioc/R/bin/R CMD INSTALL NGScopyData StartedAt: 2025-02-06 10:55:46 -0500 (Thu, 06 Feb 2025) EndedAt: 2025-02-06 10:55:49 -0500 (Thu, 06 Feb 2025) EllapsedTime: 3.1 seconds RetCode: 0 Status: OK