Package: MouseAgingData Version: 1.5.0 Command: /home/biocbuild/bbs-3.22-bioc/R/bin/R CMD build --keep-empty-dirs --no-resave-data MouseAgingData StartedAt: 2025-07-24 11:31:55 -0400 (Thu, 24 Jul 2025) EndedAt: 2025-07-24 11:33:02 -0400 (Thu, 24 Jul 2025) EllapsedTime: 67.0 seconds RetCode: 0 Status: OK PackageFile: MouseAgingData_1.5.0.tar.gz PackageFileSize: 1.342 MiB