Package: MicrobiomeBenchmarkData Version: 1.11.0 Command: /home/biocbuild/bbs-3.22-bioc/R/bin/R CMD INSTALL MicrobiomeBenchmarkData StartedAt: 2025-07-15 10:58:49 -0400 (Tue, 15 Jul 2025) EndedAt: 2025-07-15 10:59:18 -0400 (Tue, 15 Jul 2025) EllapsedTime: 29.5 seconds RetCode: 0 Status: OK