Package: MicrobiomeBenchmarkData Version: 1.11.0 Command: /home/biocbuild/bbs-3.22-bioc/R/bin/R CMD build --keep-empty-dirs --no-resave-data MicrobiomeBenchmarkData StartedAt: 2025-07-15 11:30:09 -0400 (Tue, 15 Jul 2025) EndedAt: 2025-07-15 11:31:09 -0400 (Tue, 15 Jul 2025) EllapsedTime: 60.0 seconds RetCode: 0 Status: OK PackageFile: MicrobiomeBenchmarkData_1.11.0.tar.gz PackageFileSize: 712.3 KiB