Package: MethylAidData Version: 1.39.0 Command: /home/biocbuild/bbs-3.21-bioc/R/bin/R CMD build --keep-empty-dirs --no-resave-data MethylAidData StartedAt: 2025-01-30 11:28:59 -0500 (Thu, 30 Jan 2025) EndedAt: 2025-01-30 11:29:32 -0500 (Thu, 30 Jan 2025) EllapsedTime: 32.6 seconds RetCode: 0 Status: OK PackageFile: MethylAidData_1.39.0.tar.gz PackageFileSize: 20.97 MiB