Package: MetaScope Version: 1.7.2 Command: /home/biocbuild/bbs-3.21-bioc/R/bin/R CMD check --install=check:MetaScope.install-out.txt --library=/home/biocbuild/bbs-3.21-bioc/R/site-library --timings MetaScope_1.7.2.tar.gz StartedAt: 2025-01-30 12:21:40 -0500 (Thu, 30 Jan 2025) EndedAt: 2025-01-30 12:31:33 -0500 (Thu, 30 Jan 2025) EllapsedTime: 592.7 seconds RetCode: 0 Status: OK CheckDir: MetaScope.Rcheck Warnings: 0