Package: MerfishData Version: 1.11.1 Command: /home/biocbuild/bbs-3.22-bioc/R/bin/R CMD INSTALL MerfishData StartedAt: 2025-07-22 10:59:20 -0400 (Tue, 22 Jul 2025) EndedAt: 2025-07-22 10:59:50 -0400 (Tue, 22 Jul 2025) EllapsedTime: 30.2 seconds RetCode: 0 Status: OK