Package: MerfishData Version: 1.11.1 Command: /home/biocbuild/bbs-3.22-bioc/R/bin/R CMD check --install=check:MerfishData.install-out.txt --library=/home/biocbuild/bbs-3.22-bioc/R/site-library --timings MerfishData_1.11.1.tar.gz StartedAt: 2025-09-25 12:42:57 -0400 (Thu, 25 Sep 2025) EndedAt: 2025-09-25 13:01:35 -0400 (Thu, 25 Sep 2025) EllapsedTime: 1117.1 seconds RetCode: 0 Status: OK CheckDir: MerfishData.Rcheck Warnings: 0