Package: MerfishData Version: 1.11.1 Command: /home/biocbuild/bbs-3.22-bioc/R/bin/R CMD build --keep-empty-dirs --no-resave-data MerfishData StartedAt: 2025-07-22 11:29:08 -0400 (Tue, 22 Jul 2025) EndedAt: 2025-07-22 11:37:43 -0400 (Tue, 22 Jul 2025) EllapsedTime: 515.3 seconds RetCode: 0 Status: OK PackageFile: MerfishData_1.11.1.tar.gz PackageFileSize: 24.11 MiB