Package: MEEBOdata Version: 1.49.0 Command: /home/biocbuild/bbs-3.23-bioc/R/bin/R CMD build --keep-empty-dirs --no-resave-data MEEBOdata StartedAt: 2025-11-11 11:29:02 -0500 (Tue, 11 Nov 2025) EndedAt: 2025-11-11 11:29:06 -0500 (Tue, 11 Nov 2025) EllapsedTime: 4.0 seconds RetCode: 0 Status: OK PackageFile: MEEBOdata_1.49.0.tar.gz PackageFileSize: 6.869 MiB