Package: MACSdata Version: 1.17.0 Command: /home/biocbuild/bbs-3.22-bioc/R/bin/R CMD check --install=check:MACSdata.install-out.txt --library=/home/biocbuild/bbs-3.22-bioc/R/site-library --timings MACSdata_1.17.0.tar.gz StartedAt: 2025-10-23 12:38:22 -0400 (Thu, 23 Oct 2025) EndedAt: 2025-10-23 12:38:35 -0400 (Thu, 23 Oct 2025) EllapsedTime: 13.4 seconds RetCode: 0 Status: OK CheckDir: MACSdata.Rcheck Warnings: 0