Package: MACSdata Version: 1.15.0 Command: /home/biocbuild/bbs-3.21-bioc/R/bin/R CMD build --keep-empty-dirs --no-resave-data MACSdata StartedAt: 2025-01-30 11:27:15 -0500 (Thu, 30 Jan 2025) EndedAt: 2025-01-30 11:27:16 -0500 (Thu, 30 Jan 2025) EllapsedTime: 1.0 seconds RetCode: 0 Status: OK PackageFile: MACSdata_1.15.0.tar.gz PackageFileSize: 2.724 KiB