Package: LungCancerLines Version: 0.45.0 Command: /home/biocbuild/bbs-3.21-bioc/R/bin/R CMD INSTALL LungCancerLines StartedAt: 2025-02-18 11:00:35 -0500 (Tue, 18 Feb 2025) EndedAt: 2025-02-18 11:00:46 -0500 (Tue, 18 Feb 2025) EllapsedTime: 10.5 seconds RetCode: 0 Status: OK