Package: LiebermanAidenHiC2009 Version: 0.47.0 Command: /home/biocbuild/bbs-3.22-bioc/R/bin/R CMD check --install=check:LiebermanAidenHiC2009.install-out.txt --library=/home/biocbuild/bbs-3.22-bioc/R/site-library --timings LiebermanAidenHiC2009_0.47.0.tar.gz StartedAt: 2025-10-21 12:38:07 -0400 (Tue, 21 Oct 2025) EndedAt: 2025-10-21 12:39:56 -0400 (Tue, 21 Oct 2025) EllapsedTime: 109.0 seconds RetCode: 0 Status: WARNINGS CheckDir: LiebermanAidenHiC2009.Rcheck Warnings: 2