Package: JohnsonKinaseData Version: 1.5.0 Command: /home/biocbuild/bbs-3.22-bioc/R/bin/R CMD check --install=check:JohnsonKinaseData.install-out.txt --library=/home/biocbuild/bbs-3.22-bioc/R/site-library --timings JohnsonKinaseData_1.5.0.tar.gz StartedAt: 2025-10-23 12:34:52 -0400 (Thu, 23 Oct 2025) EndedAt: 2025-10-23 12:38:11 -0400 (Thu, 23 Oct 2025) EllapsedTime: 199.0 seconds RetCode: 0 Status: OK CheckDir: JohnsonKinaseData.Rcheck Warnings: 0