Package: JohnsonKinaseData Version: 1.3.0 Command: /home/biocbuild/bbs-3.21-bioc/R/bin/R CMD check --install=check:JohnsonKinaseData.install-out.txt --library=/home/biocbuild/bbs-3.21-bioc/R/site-library --timings JohnsonKinaseData_1.3.0.tar.gz StartedAt: 2025-01-30 12:16:40 -0500 (Thu, 30 Jan 2025) EndedAt: 2025-01-30 12:19:40 -0500 (Thu, 30 Jan 2025) EllapsedTime: 179.5 seconds RetCode: 0 Status: OK CheckDir: JohnsonKinaseData.Rcheck Warnings: 0