Package: JASPAR2014 Version: 1.45.0 Command: /home/biocbuild/bbs-3.22-bioc/R/bin/R CMD build --keep-empty-dirs --no-resave-data JASPAR2014 StartedAt: 2025-07-24 11:26:31 -0400 (Thu, 24 Jul 2025) EndedAt: 2025-07-24 11:26:38 -0400 (Thu, 24 Jul 2025) EllapsedTime: 7.0 seconds RetCode: 0 Status: OK PackageFile: JASPAR2014_1.45.0.tar.gz PackageFileSize: 42.89 MiB