Package: Illumina450ProbeVariants.db Version: 1.43.0 Command: /home/biocbuild/bbs-3.21-bioc/R/bin/R CMD build --keep-empty-dirs --no-resave-data Illumina450ProbeVariants.db StartedAt: 2025-02-13 11:24:43 -0500 (Thu, 13 Feb 2025) EndedAt: 2025-02-13 11:24:46 -0500 (Thu, 13 Feb 2025) EllapsedTime: 3.3 seconds RetCode: 0 Status: OK PackageFile: Illumina450ProbeVariants.db_1.43.0.tar.gz PackageFileSize: 6.414 MiB