Package: HighlyReplicatedRNASeq Version: 1.23.0 Command: /home/biocbuild/bbs-3.23-bioc/R/bin/R CMD check --install=check:HighlyReplicatedRNASeq.install-out.txt --library=/home/biocbuild/bbs-3.23-bioc/R/site-library --timings HighlyReplicatedRNASeq_1.23.0.tar.gz StartedAt: 2025-10-30 12:19:28 -0400 (Thu, 30 Oct 2025) EndedAt: 2025-10-30 12:22:50 -0400 (Thu, 30 Oct 2025) EllapsedTime: 201.6 seconds RetCode: 0 Status: OK CheckDir: HighlyReplicatedRNASeq.Rcheck Warnings: 0