Package: HighlyReplicatedRNASeq Version: 1.19.0 Command: /home/biocbuild/bbs-3.21-bioc/R/bin/R CMD build --keep-empty-dirs --no-resave-data HighlyReplicatedRNASeq StartedAt: 2025-02-06 11:23:43 -0500 (Thu, 06 Feb 2025) EndedAt: 2025-02-06 11:24:44 -0500 (Thu, 06 Feb 2025) EllapsedTime: 61.5 seconds RetCode: 0 Status: OK PackageFile: HighlyReplicatedRNASeq_1.19.0.tar.gz PackageFileSize: 468.5 KiB