Package: HiContactsData Version: 1.13.0 Command: /home/biocbuild/bbs-3.23-bioc/R/bin/R CMD check --install=check:HiContactsData.install-out.txt --library=/home/biocbuild/bbs-3.23-bioc/R/site-library --timings HiContactsData_1.13.0.tar.gz StartedAt: 2025-11-04 12:25:11 -0500 (Tue, 04 Nov 2025) EndedAt: 2025-11-04 12:26:57 -0500 (Tue, 04 Nov 2025) EllapsedTime: 105.9 seconds RetCode: 0 Status: OK CheckDir: HiContactsData.Rcheck Warnings: 0