Package: HiContactsData Version: 1.13.0 Command: /home/biocbuild/bbs-3.23-bioc/R/bin/R CMD build --keep-empty-dirs --no-resave-data HiContactsData StartedAt: 2025-10-30 11:21:42 -0400 (Thu, 30 Oct 2025) EndedAt: 2025-10-30 11:22:02 -0400 (Thu, 30 Oct 2025) EllapsedTime: 20.5 seconds RetCode: 0 Status: OK PackageFile: HiContactsData_1.13.0.tar.gz PackageFileSize: 221.9 KiB