Package: HelloRangesData Version: 1.37.0 Command: /home/biocbuild/bbs-3.23-bioc/R/bin/R CMD check --install=check:HelloRangesData.install-out.txt --library=/home/biocbuild/bbs-3.23-bioc/R/site-library --timings HelloRangesData_1.37.0.tar.gz StartedAt: 2025-11-13 12:30:23 -0500 (Thu, 13 Nov 2025) EndedAt: 2025-11-13 12:30:49 -0500 (Thu, 13 Nov 2025) EllapsedTime: 25.6 seconds RetCode: 0 Status: OK CheckDir: HelloRangesData.Rcheck Warnings: 0