Package: HCAData Version: 1.23.1 Command: /home/biocbuild/bbs-3.21-bioc/R/bin/R CMD build --keep-empty-dirs --no-resave-data HCAData StartedAt: 2025-01-30 11:21:38 -0500 (Thu, 30 Jan 2025) EndedAt: 2025-01-30 11:24:36 -0500 (Thu, 30 Jan 2025) EllapsedTime: 177.2 seconds RetCode: 0 Status: OK PackageFile: HCAData_1.23.1.tar.gz PackageFileSize: 1.512 MiB