Package: GeuvadisTranscriptExpr Version: 1.37.0 Command: /home/biocbuild/bbs-3.22-bioc/R/bin/R CMD INSTALL GeuvadisTranscriptExpr StartedAt: 2025-05-06 10:55:54 -0400 (Tue, 06 May 2025) EndedAt: 2025-05-06 10:55:58 -0400 (Tue, 06 May 2025) EllapsedTime: 4.0 seconds RetCode: 0 Status: OK