Package: GeuvadisTranscriptExpr Version: 1.37.0 Command: /home/biocbuild/bbs-3.22-bioc/R/bin/R CMD build --keep-empty-dirs --no-resave-data GeuvadisTranscriptExpr StartedAt: 2025-05-06 11:19:54 -0400 (Tue, 06 May 2025) EndedAt: 2025-05-06 11:20:26 -0400 (Tue, 06 May 2025) EllapsedTime: 32.2 seconds RetCode: 0 Status: OK PackageFile: GeuvadisTranscriptExpr_1.37.0.tar.gz PackageFileSize: 7.2 MiB