Package: GSE62944 Version: 1.35.0 Command: /home/biocbuild/bbs-3.21-bioc/R/bin/R CMD build --keep-empty-dirs --no-resave-data GSE62944 StartedAt: 2025-02-18 11:19:55 -0500 (Tue, 18 Feb 2025) EndedAt: 2025-02-18 11:21:19 -0500 (Tue, 18 Feb 2025) EllapsedTime: 83.4 seconds RetCode: 0 Status: OK PackageFile: GSE62944_1.35.0.tar.gz PackageFileSize: 221.1 KiB