Package: EpiMix.data Version: 1.9.0 Command: /home/biocbuild/bbs-3.21-bioc/R/bin/R CMD check --install=check:EpiMix.data.install-out.txt --library=/home/biocbuild/bbs-3.21-bioc/R/site-library --timings EpiMix.data_1.9.0.tar.gz StartedAt: 2025-01-30 12:03:08 -0500 (Thu, 30 Jan 2025) EndedAt: 2025-01-30 12:04:49 -0500 (Thu, 30 Jan 2025) EllapsedTime: 100.7 seconds RetCode: 0 Status: WARNINGS CheckDir: EpiMix.data.Rcheck Warnings: 1