Package: EpiMix.data Version: 1.9.0 Command: /home/biocbuild/bbs-3.21-bioc/R/bin/R CMD build --keep-empty-dirs --no-resave-data EpiMix.data StartedAt: 2025-01-30 11:15:57 -0500 (Thu, 30 Jan 2025) EndedAt: 2025-01-30 11:16:16 -0500 (Thu, 30 Jan 2025) EllapsedTime: 18.3 seconds RetCode: 0 Status: OK PackageFile: EpiMix.data_1.9.0.tar.gz PackageFileSize: 5.021 MiB