Package: DrugVsDiseasedata Version: 1.43.0 Command: /home/biocbuild/bbs-3.21-bioc/R/bin/R CMD check --install=check:DrugVsDiseasedata.install-out.txt --library=/home/biocbuild/bbs-3.21-bioc/R/site-library --timings DrugVsDiseasedata_1.43.0.tar.gz StartedAt: 2025-02-06 12:00:25 -0500 (Thu, 06 Feb 2025) EndedAt: 2025-02-06 12:00:43 -0500 (Thu, 06 Feb 2025) EllapsedTime: 17.3 seconds RetCode: 0 Status: OK CheckDir: DrugVsDiseasedata.Rcheck Warnings: 0