Package: DrugVsDiseasedata Version: 1.43.0 Command: /home/biocbuild/bbs-3.21-bioc/R/bin/R CMD build --keep-empty-dirs --no-resave-data DrugVsDiseasedata StartedAt: 2025-02-06 11:15:24 -0500 (Thu, 06 Feb 2025) EndedAt: 2025-02-06 11:15:28 -0500 (Thu, 06 Feb 2025) EllapsedTime: 4.3 seconds RetCode: 0 Status: OK PackageFile: DrugVsDiseasedata_1.43.0.tar.gz PackageFileSize: 4.104 MiB