Package: DoReMiTra Version: 0.99.2 Command: /home/biocbuild/bbs-3.22-bioc/R/bin/R CMD build --keep-empty-dirs --no-resave-data DoReMiTra StartedAt: 2025-10-23 11:14:51 -0400 (Thu, 23 Oct 2025) EndedAt: 2025-10-23 11:15:43 -0400 (Thu, 23 Oct 2025) EllapsedTime: 51.8 seconds RetCode: 0 Status: OK PackageFile: DoReMiTra_0.99.2.tar.gz PackageFileSize: 1.105 MiB