Package: DoReMiTra Version: 0.99.2 Maintainer: Ahmed Salah MaintainerEmail: ahhassan at uni-mainz.de git_url: https://git.bioconductor.org/packages/DoReMiTra git_branch: devel git_last_commit: 8fe501b git_last_commit_date: 2025-10-13 05:48:24 -0400 (Mon, 13 Oct 2025)