Package: DeSousa2013 Version: 1.45.0 Command: /home/biocbuild/bbs-3.22-bioc/R/bin/R CMD check --install=check:DeSousa2013.install-out.txt --library=/home/biocbuild/bbs-3.22-bioc/R/site-library --timings DeSousa2013_1.45.0.tar.gz StartedAt: 2025-10-14 12:13:31 -0400 (Tue, 14 Oct 2025) EndedAt: 2025-10-14 12:18:14 -0400 (Tue, 14 Oct 2025) EllapsedTime: 283.3 seconds RetCode: 0 Status: OK CheckDir: DeSousa2013.Rcheck Warnings: 0