Package: DNAZooData Version: 1.9.0 Command: /home/biocbuild/bbs-3.22-bioc/R/bin/R CMD check --install=check:DNAZooData.install-out.txt --library=/home/biocbuild/bbs-3.22-bioc/R/site-library --timings DNAZooData_1.9.0.tar.gz StartedAt: 2025-10-09 12:16:22 -0400 (Thu, 09 Oct 2025) EndedAt: 2025-10-09 12:19:50 -0400 (Thu, 09 Oct 2025) EllapsedTime: 207.8 seconds RetCode: 0 Status: OK CheckDir: DNAZooData.Rcheck Warnings: 0