Package: DExMAdata Version: 1.15.0 Command: /home/biocbuild/bbs-3.21-bioc/R/bin/R CMD check --install=check:DExMAdata.install-out.txt --library=/home/biocbuild/bbs-3.21-bioc/R/site-library --timings DExMAdata_1.15.0.tar.gz StartedAt: 2025-01-30 11:58:11 -0500 (Thu, 30 Jan 2025) EndedAt: 2025-01-30 11:58:46 -0500 (Thu, 30 Jan 2025) EllapsedTime: 35.7 seconds RetCode: 0 Status: OK CheckDir: DExMAdata.Rcheck Warnings: 0