Package: CytoMethIC Version: 1.7.0 Command: /home/biocbuild/bbs-3.23-bioc/R/bin/R CMD INSTALL CytoMethIC StartedAt: 2025-11-13 11:04:30 -0500 (Thu, 13 Nov 2025) EndedAt: 2025-11-13 11:04:58 -0500 (Thu, 13 Nov 2025) EllapsedTime: 28.2 seconds RetCode: 0 Status: OK