Package: CluMSIDdata Version: 1.25.0 Command: /home/biocbuild/bbs-3.22-bioc/R/bin/R CMD check --install=check:CluMSIDdata.install-out.txt --library=/home/biocbuild/bbs-3.22-bioc/R/site-library --timings CluMSIDdata_1.25.0.tar.gz StartedAt: 2025-10-09 12:08:27 -0400 (Thu, 09 Oct 2025) EndedAt: 2025-10-09 12:08:39 -0400 (Thu, 09 Oct 2025) EllapsedTime: 12.3 seconds RetCode: 0 Status: OK CheckDir: CluMSIDdata.Rcheck Warnings: 0