Package: ChIPDBData Version: 0.99.7 Command: /home/biocbuild/bbs-3.22-bioc/R/bin/R CMD INSTALL ChIPDBData StartedAt: 2025-10-02 10:57:19 -0400 (Thu, 02 Oct 2025) EndedAt: 2025-10-02 10:57:21 -0400 (Thu, 02 Oct 2025) EllapsedTime: 1.3 seconds RetCode: 0 Status: OK