Package: ChIPDBData Version: 0.99.7 Command: /home/biocbuild/bbs-3.22-bioc/R/bin/R CMD build --keep-empty-dirs --no-resave-data ChIPDBData StartedAt: 2025-10-02 11:08:38 -0400 (Thu, 02 Oct 2025) EndedAt: 2025-10-02 11:09:25 -0400 (Thu, 02 Oct 2025) EllapsedTime: 47.3 seconds RetCode: 0 Status: OK PackageFile: ChIPDBData_0.99.7.tar.gz PackageFileSize: 224.8 KiB