Package: ChIPDBData Version: 1.1.0 Command: /home/biocbuild/bbs-3.23-bioc/R/bin/R CMD check --install=check:ChIPDBData.install-out.txt --library=/home/biocbuild/bbs-3.23-bioc/R/site-library --timings ChIPDBData_1.1.0.tar.gz StartedAt: 2025-11-11 12:05:53 -0500 (Tue, 11 Nov 2025) EndedAt: 2025-11-11 12:07:15 -0500 (Tue, 11 Nov 2025) EllapsedTime: 81.9 seconds RetCode: 0 Status: OK CheckDir: ChIPDBData.Rcheck Warnings: 0