Package: COPDSexualDimorphism.data Version: 1.43.0 Command: /home/biocbuild/bbs-3.21-bioc/R/bin/R CMD INSTALL COPDSexualDimorphism.data StartedAt: 2025-02-13 10:55:10 -0500 (Thu, 13 Feb 2025) EndedAt: 2025-02-13 10:55:12 -0500 (Thu, 13 Feb 2025) EllapsedTime: 2.4 seconds RetCode: 0 Status: OK